BEGIN:VCALENDAR
PRODID:-//eluceo/ical//2.0/EN
VERSION:2.0
CALSCALE:GREGORIAN
BEGIN:VEVENT
UID:603d1b7868efda87b6b6012967333309
DTSTAMP:20260423T033751Z
SUMMARY:BT - Start of Hebrew School
DESCRIPTION:Jewish Federation of Central Massachusetts\nCalendar\nhttps://j
 ewishcentralmass.org/calendar/bt-start-of-hebrew-school\n\nBT - Start of H
 ebrew School
DTSTART;TZID=America/New_York:20220911T090000
DTEND;TZID=America/New_York:20220911T110000
END:VEVENT
END:VCALENDAR
