BEGIN:VCALENDAR
PRODID:-//eluceo/ical//2.0/EN
VERSION:2.0
CALSCALE:GREGORIAN
BEGIN:VEVENT
UID:8c4501ff4a15b9716907bf62abd8e0ef
DTSTAMP:20260422T141314Z
SUMMARY:BT Shabbat Hanukkah
DESCRIPTION:Jewish Federation of Central Massachusetts\nCalendar\nhttps://j
 ewishcentralmass.org/calendar/bt-shabbat-hanukkah\n\nBT Shabbat Hanukkah -
  Grafton Loc\n\n7:00 pm
DTSTART;TZID=America/New_York:20231208T190000
DTEND;TZID=America/New_York:20231208T210000
END:VEVENT
END:VCALENDAR
