BEGIN:VCALENDAR
PRODID:-//eluceo/ical//2.0/EN
VERSION:2.0
CALSCALE:GREGORIAN
BEGIN:VEVENT
UID:4430ef3f639bf7c6eb1aed6f8a391204
DTSTAMP:20260423T145206Z
SUMMARY:BT Scout Shabbat 2025
DESCRIPTION:Jewish Federation of Central Massachusetts\nCalendar\nhttps://j
 ewishcentralmass.org/calendar/bt-scout-shabbat2025\n\nBT Scout Shabbat\n\n
 9:30 am
DTSTART;TZID=America/New_York:20250208T093000
DTEND;TZID=America/New_York:20250208T113000
END:VEVENT
END:VCALENDAR
