BEGIN:VCALENDAR
PRODID:-//eluceo/ical//2.0/EN
VERSION:2.0
CALSCALE:GREGORIAN
BEGIN:VEVENT
UID:2f6d6928309546f6118eba4f7494e94b
DTSTAMP:20260422T025330Z
SUMMARY:BT Scout Shabbat
DESCRIPTION:Jewish Federation of Central Massachusetts\nCalendar\nhttps://j
 ewishcentralmass.org/calendar/bt-scout-shabbat\n\nBT Scout Shabbat\n\n7:00
  pm
DTSTART;TZID=America/New_York:20240209T190000
DTEND;TZID=America/New_York:20240209T210000
END:VEVENT
END:VCALENDAR
