BEGIN:VCALENDAR
PRODID:-//eluceo/ical//2.0/EN
VERSION:2.0
CALSCALE:GREGORIAN
BEGIN:VEVENT
UID:16a1707bf28aab462ffcfe0ae97fc123
DTSTAMP:20260422T232021Z
SUMMARY:BT Presents Women's Shabbat Morning
DESCRIPTION:Jewish Federation of Central Massachusetts\nCalendar\nhttps://j
 ewishcentralmass.org/calendar/bt-presents-womens-shabbat-morning\n\nBT Pre
 sents Women's Shabbat Morning\n\nSaturday\, March 11 from 9:30 am - 2:00 p
 m\n\nRSVP Here
DTSTART;TZID=America/New_York:20230311T093000
DTEND;TZID=America/New_York:20230311T140000
END:VEVENT
END:VCALENDAR
