BEGIN:VCALENDAR
PRODID:-//eluceo/ical//2.0/EN
VERSION:2.0
CALSCALE:GREGORIAN
BEGIN:VEVENT
UID:eaf3069101bd668a7eee3d0821e18483
DTSTAMP:20260421T020903Z
SUMMARY:BT Potluck and Services
DESCRIPTION:Jewish Federation of Central Massachusetts\nCalendar\nhttps://j
 ewishcentralmass.org/calendar/bt-potluck-and-services\n\nBT Potluck and Se
 rvices\n\n6:00 pm
DTSTART;TZID=America/New_York:20250328T180000
DTEND;TZID=America/New_York:20250328T200000
END:VEVENT
END:VCALENDAR
