BEGIN:VCALENDAR
PRODID:-//eluceo/ical//2.0/EN
VERSION:2.0
CALSCALE:GREGORIAN
BEGIN:VEVENT
UID:271b4f432ff4396e0f741c6e7342d0c0
DTSTAMP:20260423T015627Z
SUMMARY:BT Potluck
DESCRIPTION:Jewish Federation of Central Massachusetts\nCalendar\nhttps://j
 ewishcentralmass.org/calendar/bt-potluck\n\nBT Potluck\n\n7:00 pm
DTSTART;TZID=America/New_York:20241024T190000
DTEND;TZID=America/New_York:20241024T210000
END:VEVENT
END:VCALENDAR
