BEGIN:VCALENDAR
PRODID:-//eluceo/ical//2.0/EN
VERSION:2.0
CALSCALE:GREGORIAN
BEGIN:VEVENT
UID:090af0ab155fd608f3cef54b449feab9
DTSTAMP:20260423T192054Z
SUMMARY:BT Movie and Chinese
DESCRIPTION:Jewish Federation of Central Massachusetts\nCalendar\nhttps://j
 ewishcentralmass.org/calendar/bt-movie-and-chinese\n\nBT Movie and Chinese
 \n\nTime - TBD (afternoon)
DTSTART;TZID=America/New_York:20231225T130000
DTEND;TZID=America/New_York:20231225T170000
END:VEVENT
END:VCALENDAR
