BEGIN:VCALENDAR
PRODID:-//eluceo/ical//2.0/EN
VERSION:2.0
CALSCALE:GREGORIAN
BEGIN:VEVENT
UID:81c8463acd575a0e3596d1a2edb813d6
DTSTAMP:20260421T162536Z
SUMMARY:BT - Last Erev Shabbat Service
DESCRIPTION:Jewish Federation of Central Massachusetts\nCalendar\nhttps://j
 ewishcentralmass.org/calendar/bt-last-erev-shabbat-service\n\nBT - Last Er
 ev Shabbat Service\n\n7:00 pm
DTSTART;TZID=America/New_York:20260612T190000
DTEND;TZID=America/New_York:20260612T210000
END:VEVENT
END:VCALENDAR
