BEGIN:VCALENDAR
PRODID:-//eluceo/ical//2.0/EN
VERSION:2.0
CALSCALE:GREGORIAN
BEGIN:VEVENT
UID:568472f0a3a69c191789c4ed3b7bb025
DTSTAMP:20260423T042548Z
SUMMARY:BT Last Day of School 2024
DESCRIPTION:Jewish Federation of Central Massachusetts\nCalendar\nhttps://j
 ewishcentralmass.org/calendar/bt-last-day-of-school-2024\n\nBT Last Day of
  School\n\n9:00 am
DTSTART;TZID=America/New_York:20240505T090000
DTEND;TZID=America/New_York:20240505T110000
END:VEVENT
END:VCALENDAR
