BEGIN:VCALENDAR
PRODID:-//eluceo/ical//2.0/EN
VERSION:2.0
CALSCALE:GREGORIAN
BEGIN:VEVENT
UID:5d4ede1aff6aefe0b4dd2c1db15906e1
DTSTAMP:20260421T205918Z
SUMMARY:BT First Day Hebrew School 2023
DESCRIPTION:Jewish Federation of Central Massachusetts\nCalendar\nhttps://j
 ewishcentralmass.org/calendar/bt-first-day-hebrew-school-2023\n\nBT First 
 Day Hebrew School
DTSTART;TZID=America/New_York:20230910T090000
DTEND;TZID=America/New_York:20230910T110000
END:VEVENT
END:VCALENDAR
