BEGIN:VCALENDAR
PRODID:-//eluceo/ical//2.0/EN
VERSION:2.0
CALSCALE:GREGORIAN
BEGIN:VEVENT
UID:fcb28c2ea724a1571f87ffb3a95a2f3f
DTSTAMP:20260423T121117Z
SUMMARY:BT Erev Shabbat at Lake Chauncy
DESCRIPTION:Jewish Federation of Central Massachusetts\nCalendar\nhttps://j
 ewishcentralmass.org/calendar/bt-erev-shabbat-at-lake-chauncy\n\nBT Erev S
 habbat at Lake Chauncy\n\n7:00 pm
DTSTART;TZID=America/New_York:20240621T190000
DTEND;TZID=America/New_York:20240621T210000
END:VEVENT
END:VCALENDAR
