BEGIN:VCALENDAR
PRODID:-//eluceo/ical//2.0/EN
VERSION:2.0
CALSCALE:GREGORIAN
BEGIN:VEVENT
UID:64698a598c46792d55c9cc9cb2fa7820
DTSTAMP:20260423T092525Z
SUMMARY:BT Candle Lighting Program at Grafton
DESCRIPTION:Jewish Federation of Central Massachusetts\nCalendar\nhttps://j
 ewishcentralmass.org/calendar/bt-candle-lighting-program-at-grafton\n\nBT 
 Candle Lighting Program at Grafton\n\n3:00 pm
DTSTART;TZID=America/New_York:20241229T150000
DTEND;TZID=America/New_York:20241229T170000
END:VEVENT
END:VCALENDAR
