BEGIN:VCALENDAR
PRODID:-//eluceo/ical//2.0/EN
VERSION:2.0
CALSCALE:GREGORIAN
BEGIN:VEVENT
UID:4681ed48eb34bd8dc1e452df9d1cc7ee
DTSTAMP:20260422T053304Z
SUMMARY:BT Board Meeting
DESCRIPTION:Jewish Federation of Central Massachusetts\nCalendar\nhttps://j
 ewishcentralmass.org/calendar/bt-board-meeting1\n\nBT Board Meeting
DTSTART;TZID=America/New_York:20210811T190000
DTEND;TZID=America/New_York:20210811T210000
END:VEVENT
END:VCALENDAR
