BEGIN:VCALENDAR
PRODID:-//eluceo/ical//2.0/EN
VERSION:2.0
CALSCALE:GREGORIAN
BEGIN:VEVENT
UID:a8f1a80b493de4da3407a4ecb80601ea
DTSTAMP:20260423T095655Z
SUMMARY:BT - Annual Meeting 2026
DESCRIPTION:Jewish Federation of Central Massachusetts\nCalendar\nhttps://j
 ewishcentralmass.org/calendar/bt-annual-meeting-2026\n\nBT - Annual Meetin
 g 2026\n\n7:30 pm
DTSTART;TZID=America/New_York:20260610T193000
DTEND;TZID=America/New_York:20260610T213000
END:VEVENT
END:VCALENDAR
