BEGIN:VCALENDAR
PRODID:-//eluceo/ical//2.0/EN
VERSION:2.0
CALSCALE:GREGORIAN
BEGIN:VEVENT
UID:434ccb66e8afc252dc17abb68267676f
DTSTAMP:20260420T221927Z
SUMMARY:BT Adult Paint Night
DESCRIPTION:Jewish Federation of Central Massachusetts\nCalendar\nhttps://j
 ewishcentralmass.org/calendar/bt-adult-paint-night\n\nBT Adult Paint Night
 \n\n7:00 pm
DTSTART;TZID=America/New_York:20231021T190000
DTEND;TZID=America/New_York:20231021T210000
END:VEVENT
END:VCALENDAR
