BEGIN:VCALENDAR
PRODID:-//eluceo/ical//2.0/EN
VERSION:2.0
CALSCALE:GREGORIAN
BEGIN:VEVENT
UID:51e84bcdc28fc4c21c2f67c654a93eb1
DTSTAMP:20260423T105552Z
SUMMARY:Brian Williams with Jonathan Tisch
DESCRIPTION:Jewish Federation of Central Massachusetts\nCalendar\nhttps://j
 ewishcentralmass.org/calendar/brian-williams-with-jonathan-tisch\n\n92nd S
 treet Y Live
DTSTART;TZID=America/New_York:20130227T200000
DTEND;TZID=America/New_York:20130227T203000
END:VEVENT
END:VCALENDAR
