BEGIN:VCALENDAR
PRODID:-//eluceo/ical//2.0/EN
VERSION:2.0
CALSCALE:GREGORIAN
BEGIN:VEVENT
UID:b2f6312c4a05bde3820a32458c790cc6
DTSTAMP:20260422T133630Z
SUMMARY:Boston Auschwitz Exhibit Trip
DESCRIPTION:Jewish Federation of Central Massachusetts\nCalendar\nhttps://j
 ewishcentralmass.org/calendar/boston-auschwitz-exhibit-trip\n\nSunday\, Ju
 ne 9 \n\n10-4 \n\nBoston Auschwitz exhibit trip 
DTSTART;TZID=America/New_York:20240609T100000
DTEND;TZID=America/New_York:20240609T160000
END:VEVENT
END:VCALENDAR
