BEGIN:VCALENDAR
PRODID:-//eluceo/ical//2.0/EN
VERSION:2.0
CALSCALE:GREGORIAN
BEGIN:VEVENT
UID:0d65ad3a98aa58dd9cf4adb86e924669
DTSTAMP:20260422T153625Z
SUMMARY:Boroughs Jewish Community Center Taste of the Boroughs
DESCRIPTION:Jewish Federation of Central Massachusetts\nCalendar\nhttps://j
 ewishcentralmass.org/calendar/boroughs-jewish-community-center-taste-of-th
 e-boroughs\n\nBAJCC Taste of the Boroughs
DTSTART;TZID=America/New_York:20130324T190000
DTEND;TZID=America/New_York:20130324T193000
END:VEVENT
END:VCALENDAR
