BEGIN:VCALENDAR
PRODID:-//eluceo/ical//2.0/EN
VERSION:2.0
CALSCALE:GREGORIAN
BEGIN:VEVENT
UID:893433f082d3be82308c8bc0a0bd03cd
DTSTAMP:20260422T110614Z
SUMMARY:Boroughs Jewish Community Center Reunion
DESCRIPTION:Jewish Federation of Central Massachusetts\nCalendar\nhttps://j
 ewishcentralmass.org/calendar/boroughs-jewish-community-center-reunion\n\n
 BJCC Reunion
DTSTART;TZID=America/New_York:20130907T190000
DTEND;TZID=America/New_York:20130907T193000
END:VEVENT
END:VCALENDAR
