BEGIN:VCALENDAR
PRODID:-//eluceo/ical//2.0/EN
VERSION:2.0
CALSCALE:GREGORIAN
BEGIN:VEVENT
UID:4a396776bde410220cd341b3cc2a0a18
DTSTAMP:20260423T163521Z
SUMMARY:Boroughs Jewish Community Center Film Series
DESCRIPTION:Jewish Federation of Central Massachusetts\nCalendar\nhttps://j
 ewishcentralmass.org/calendar/boroughs-jewish-community-center-film-series
 \n\nBJCC Film Series
DTSTART;TZID=America/New_York:20130909T190000
DTEND;TZID=America/New_York:20130909T193000
END:VEVENT
END:VCALENDAR
