BEGIN:VCALENDAR
PRODID:-//eluceo/ical//2.0/EN
VERSION:2.0
CALSCALE:GREGORIAN
BEGIN:VEVENT
UID:68653436a6e2a10311491e5eef562ca2
DTSTAMP:20260422T200029Z
SUMMARY:Boroughs Jewish Community Center Board Meeting
DESCRIPTION:Jewish Federation of Central Massachusetts\nCalendar\nhttps://j
 ewishcentralmass.org/calendar/boroughs-jewish-community-center-board-meeti
 ng\n\nBJCC Bd
DTSTART;TZID=America/New_York:20130820T190000
DTEND;TZID=America/New_York:20130820T193000
END:VEVENT
END:VCALENDAR
