BEGIN:VCALENDAR
PRODID:-//eluceo/ical//2.0/EN
VERSION:2.0
CALSCALE:GREGORIAN
BEGIN:VEVENT
UID:2090b6ab69fc8e12f8bfc9319097a84a
DTSTAMP:20260422T234935Z
SUMMARY:Boroughs Hadassah Wine Tasting
DESCRIPTION:Jewish Federation of Central Massachusetts\nCalendar\nhttps://j
 ewishcentralmass.org/calendar/boroughs-hadassah-wine-tasting\n\nBoroughs H
 adassah Wine Tasting
DTSTART;TZID=America/New_York:20130209T190000
DTEND;TZID=America/New_York:20130209T193000
END:VEVENT
END:VCALENDAR
