BEGIN:VCALENDAR
PRODID:-//eluceo/ical//2.0/EN
VERSION:2.0
CALSCALE:GREGORIAN
BEGIN:VEVENT
UID:6479ba964626cc5386fb6d4a71b9526a
DTSTAMP:20260423T095358Z
SUMMARY:Boroughs Hadassah Fundraiser
DESCRIPTION:Jewish Federation of Central Massachusetts\nCalendar\nhttps://j
 ewishcentralmass.org/calendar/boroughs-hadassah-fundraiser\n\nBoroughs Had
 assah Fundraiser\n\n7:00 pm\n\nMarlborough\, MA - full directions provided
  upon registration.
DTSTART;TZID=America/New_York:20240511T190000
DTEND;TZID=America/New_York:20240511T210000
END:VEVENT
END:VCALENDAR
