BEGIN:VCALENDAR
PRODID:-//eluceo/ical//2.0/EN
VERSION:2.0
CALSCALE:GREGORIAN
BEGIN:VEVENT
UID:d8b49a31233c96b3a38ba6e990421f49
DTSTAMP:20260421T174652Z
SUMMARY:Born at BI Series 2024
DESCRIPTION:Jewish Federation of Central Massachusetts\nCalendar\nhttps://j
 ewishcentralmass.org/calendar/born-at-bi-series-2024\n\nBorn at BI Series 
 2024\n\nTime: TBD\n\nJanuary 7th (Zoom) Rabbi Joshua Ladon: Director of E
 ducation for the Shalom Hartman Institute of North America. Grew up at Tem
 ple Sinai and Schechter.  Topic:  American Jewish community\, peoplehood
 \, pluralism\n\n 
DTSTART;TZID=America/New_York:20240107T101500
DTEND;TZID=America/New_York:20240107T121500
END:VEVENT
END:VCALENDAR
