BEGIN:VCALENDAR
PRODID:-//eluceo/ical//2.0/EN
VERSION:2.0
CALSCALE:GREGORIAN
BEGIN:VEVENT
UID:b7532dbb1fd6410e34b977f03e0b7722
DTSTAMP:20260421T151408Z
SUMMARY:Born at BI - Hazzan Jesse Holzer
DESCRIPTION:Jewish Federation of Central Massachusetts\nCalendar\nhttps://j
 ewishcentralmass.org/calendar/born-at-bi-hazzan-jesse-holzer\n\nBorn at BI
  - Hazzan Jesse Holzer\n\nNew date: May 11\n\n7:30 pm
DTSTART;TZID=America/New_York:20250511T193000
DTEND;TZID=America/New_York:20250511T203000
END:VEVENT
END:VCALENDAR
