BEGIN:VCALENDAR
PRODID:-//eluceo/ical//2.0/EN
VERSION:2.0
CALSCALE:GREGORIAN
BEGIN:VEVENT
UID:b631fcbe8a3ad1f8508531b1cd49c8fb
DTSTAMP:20260423T174416Z
SUMMARY:Bnai Shalom Faculty Orientation
DESCRIPTION:Jewish Federation of Central Massachusetts\nCalendar\nhttps://j
 ewishcentralmass.org/calendar/bnai-shalom-faculty-orientation\n\nBnai Shal
 om Faculty Orientation\n\nSept 7 6-9PM
DTSTART;TZID=America/New_York:20230907T180000
DTEND;TZID=America/New_York:20230907T210000
END:VEVENT
END:VCALENDAR
