BEGIN:VCALENDAR
PRODID:-//eluceo/ical//2.0/EN
VERSION:2.0
CALSCALE:GREGORIAN
BEGIN:VEVENT
UID:de76e1a33f8847a88e4e9aa0b5c885c9
DTSTAMP:20260423T212506Z
SUMMARY:B'nai Brith Dinner
DESCRIPTION:Jewish Federation of Central Massachusetts\nCalendar\nhttps://j
 ewishcentralmass.org/calendar/bnai-brith-dinner\n\nB'nai Brith Dinner
DTSTART;TZID=America/New_York:20130530T183000
DTEND;TZID=America/New_York:20130530T210000
END:VEVENT
END:VCALENDAR
