BEGIN:VCALENDAR
PRODID:-//eluceo/ical//2.0/EN
VERSION:2.0
CALSCALE:GREGORIAN
BEGIN:VEVENT
UID:cd58e5a9413574cd9b13c0418028871e
DTSTAMP:20260422T105707Z
SUMMARY:Black Jewish Alliance Rubbi Funnye Speaking Event
DESCRIPTION:Jewish Federation of Central Massachusetts\nCalendar\nhttps://j
 ewishcentralmass.org/calendar/black-jewish-alliance-rubbi-funnye-speaking-
 event\n\nMay 2nd - Black Jewish Alliance Rubbi Funnye Speaking Event\n\nT
 ime - TBA
DTSTART;TZID=America/New_York:20220502T180000
DTEND;TZID=America/New_York:20220502T210000
END:VEVENT
END:VCALENDAR
