BEGIN:VCALENDAR
PRODID:-//eluceo/ical//2.0/EN
VERSION:2.0
CALSCALE:GREGORIAN
BEGIN:VEVENT
UID:473e472a6899aa4cf4cfb165e448c996
DTSTAMP:20260423T023517Z
SUMMARY:Black Jewish Alliance Program
DESCRIPTION:Jewish Federation of Central Massachusetts\nCalendar\nhttps://j
 ewishcentralmass.org/calendar/black-jewish-alliance-program\n\nThursday Ma
 rch 15th 7:00 pm at Nick's Bar and Restaurant - 124 Millbury St. Worcest
 er\n\nJoin us in celebrating the Black/Jewish history of an American Jazz 
 standard\, “BodyandSoul.” Tom Reney\, host of “Jazz á la Mode\,
 ” on New England Public Radio will introduce a special screening of the 
 film“Body and Soul.” Jazz bassist Geoffrey Watson Oehling\, and Frien
 ds are the evening’s musical entertainment.
DTSTART;TZID=America/New_York:20180315T180000
DTEND;TZID=America/New_York:20180315T220000
END:VEVENT
END:VCALENDAR
