BEGIN:VCALENDAR
PRODID:-//eluceo/ical//2.0/EN
VERSION:2.0
CALSCALE:GREGORIAN
BEGIN:VEVENT
UID:106dcdb3206e86c5c7804ab65a82a80b
DTSTAMP:20260422T181113Z
SUMMARY:Songs of Hope - Jan 2025
DESCRIPTION:Jewish Federation of Central Massachusetts\nCalendar\nhttps://j
 ewishcentralmass.org/calendar/black-jewish-alliance-event-jan-2025\n\nJanu
 ary 26\n\nBlack Jewish Alliance Event: Songs of Hope\n\n4:00 PM\n\n \n\nB
 ELMONT A.M.E. ZION CHURCH\,\n\n55 ILLINOIS STREET\, WORCESTER
DTSTART;TZID=America/New_York:20250126T160000
DTEND;TZID=America/New_York:20250126T180000
END:VEVENT
END:VCALENDAR
