BEGIN:VCALENDAR
PRODID:-//eluceo/ical//2.0/EN
VERSION:2.0
CALSCALE:GREGORIAN
BEGIN:VEVENT
UID:a53df54e28e2a4694fed5ce84d25f4a8
DTSTAMP:20260424T013453Z
SUMMARY:BJCC Open House
DESCRIPTION:Jewish Federation of Central Massachusetts\nCalendar\nhttps://j
 ewishcentralmass.org/calendar/bjcc-open-house\n\nBJCC Open House
DTSTART;TZID=America/New_York:20160118T100000
DTEND;TZID=America/New_York:20160118T170000
END:VEVENT
END:VCALENDAR
