BEGIN:VCALENDAR
PRODID:-//eluceo/ical//2.0/EN
VERSION:2.0
CALSCALE:GREGORIAN
BEGIN:VEVENT
UID:f37bd49066b263be4551a0859d407967
DTSTAMP:20260423T190518Z
SUMMARY:Birthright Event
DESCRIPTION:Jewish Federation of Central Massachusetts\nCalendar\nhttps://j
 ewishcentralmass.org/calendar/birthright-event\n\nSept 25 Birthright Event
  7PM
DTSTART;TZID=America/New_York:20190925T190000
DTEND;TZID=America/New_York:20190925T210000
END:VEVENT
END:VCALENDAR
