BEGIN:VCALENDAR
PRODID:-//eluceo/ical//2.0/EN
VERSION:2.0
CALSCALE:GREGORIAN
BEGIN:VEVENT
UID:bfec72c51d28c0be0212a41e96fce637
DTSTAMP:20260422T173336Z
SUMMARY:Bingo at Beth Israel
DESCRIPTION:Jewish Federation of Central Massachusetts\nCalendar\nhttps://j
 ewishcentralmass.org/calendar/bingo-at-beth-israel\n\nCome and join us for
  a BI BINGO \nat Congregation Beth Israel \nSaturday\, Feb. 24\, 2018 fr
 om 6:30- 10 pm\n\nAll are welcome to attend this fun\, family-friendly eve
 nt!\nBring your friends and neighbors!\nFUNdraiser to support\nCongregatio
 n Beth Israel\n15 Jamesbury Drive\nWorcester\, MA 01609
DTSTART;TZID=America/New_York:20180224T183000
DTEND;TZID=America/New_York:20180224T220000
END:VEVENT
END:VCALENDAR
