BEGIN:VCALENDAR
PRODID:-//eluceo/ical//2.0/EN
VERSION:2.0
CALSCALE:GREGORIAN
BEGIN:VEVENT
UID:8d778ce8f07c4a62751cc0e4caa623ce
DTSTAMP:20260422T155610Z
SUMMARY:BI Workshops
DESCRIPTION:Jewish Federation of Central Massachusetts\nCalendar\nhttps://j
 ewishcentralmass.org/calendar/bi-workshops\n\nBI Workshops\n\n7:30 pm
DTSTART;TZID=America/New_York:20220713T193000
DTEND;TZID=America/New_York:20220713T213000
END:VEVENT
END:VCALENDAR
