BEGIN:VCALENDAR
PRODID:-//eluceo/ical//2.0/EN
VERSION:2.0
CALSCALE:GREGORIAN
BEGIN:VEVENT
UID:66b9b3e08bc9613ee96717ec3e5a176a
DTSTAMP:20260423T060409Z
SUMMARY:BI Welcome Back
DESCRIPTION:Jewish Federation of Central Massachusetts\nCalendar\nhttps://j
 ewishcentralmass.org/calendar/bi-welcome-back\n\nBI Welcome Back\n\n1:00 p
 m
DTSTART;TZID=America/New_York:20240908T130000
DTEND;TZID=America/New_York:20240908T150000
END:VEVENT
END:VCALENDAR
