BEGIN:VCALENDAR
PRODID:-//eluceo/ical//2.0/EN
VERSION:2.0
CALSCALE:GREGORIAN
BEGIN:VEVENT
UID:9f67b0d5ad2fb26749df47b915c6da89
DTSTAMP:20260421T222151Z
SUMMARY:BI Tu B'Shevat Program
DESCRIPTION:Jewish Federation of Central Massachusetts\nCalendar\nhttps://j
 ewishcentralmass.org/calendar/bi-tu-bshevat-program\n\nBI Tu B'Shevat Prog
 ram\n\n7:00 pm
DTSTART;TZID=America/New_York:20230205T190000
DTEND;TZID=America/New_York:20230205T210000
END:VEVENT
END:VCALENDAR
