BEGIN:VCALENDAR
PRODID:-//eluceo/ical//2.0/EN
VERSION:2.0
CALSCALE:GREGORIAN
BEGIN:VEVENT
UID:abadf52dad22b4452c1f9783bc748452
DTSTAMP:20260423T150106Z
SUMMARY:BI Tu B'Shevat Havdallah Craft
DESCRIPTION:Jewish Federation of Central Massachusetts\nCalendar\nhttps://j
 ewishcentralmass.org/calendar/bi-tu-bshevat-havdallah-craft\n\nBI Tu B'She
 vat Havdallah Craft\n\n6:30 pm
DTSTART;TZID=America/New_York:20250208T183000
DTEND;TZID=America/New_York:20250208T203000
END:VEVENT
END:VCALENDAR
