BEGIN:VCALENDAR
PRODID:-//eluceo/ical//2.0/EN
VERSION:2.0
CALSCALE:GREGORIAN
BEGIN:VEVENT
UID:f927994050d22ef48f45e6654e90866f
DTSTAMP:20260422T103430Z
SUMMARY:BI Tot Shabbat
DESCRIPTION:Jewish Federation of Central Massachusetts\nCalendar\nhttps://j
 ewishcentralmass.org/calendar/bi-tot-shabbat\n\nBI Tot Shabbat\n\n10:30 am
DTSTART;TZID=America/New_York:20221001T103000
DTEND;TZID=America/New_York:20221001T123000
END:VEVENT
END:VCALENDAR
