BEGIN:VCALENDAR
PRODID:-//eluceo/ical//2.0/EN
VERSION:2.0
CALSCALE:GREGORIAN
BEGIN:VEVENT
UID:13f3478caf2dbf297fb5f751f87f2df8
DTSTAMP:20260424T053924Z
SUMMARY:BI Sukkot Potluck and Service
DESCRIPTION:Jewish Federation of Central Massachusetts\nCalendar\nhttps://j
 ewishcentralmass.org/calendar/bi-sukkot-potluck-and-service\n\nBI Sukkot P
 otluck and Service\n\n6:30 pm
DTSTART;TZID=America/New_York:20241018T183000
DTEND;TZID=America/New_York:20241018T203000
END:VEVENT
END:VCALENDAR
