BEGIN:VCALENDAR
PRODID:-//eluceo/ical//2.0/EN
VERSION:2.0
CALSCALE:GREGORIAN
BEGIN:VEVENT
UID:0fc89d5a0a574f248ace85d88395c637
DTSTAMP:20260423T013327Z
SUMMARY:BI Sukkot Hop
DESCRIPTION:Jewish Federation of Central Massachusetts\nCalendar\nhttps://j
 ewishcentralmass.org/calendar/bi-sukkot-hop\n\nBI Sukkot Hop\n\n12:00 pm
DTSTART;TZID=America/New_York:20241019T120000
DTEND;TZID=America/New_York:20241019T140000
END:VEVENT
END:VCALENDAR
