BEGIN:VCALENDAR
PRODID:-//eluceo/ical//2.0/EN
VERSION:2.0
CALSCALE:GREGORIAN
BEGIN:VEVENT
UID:7fc7f59b74779ec8b2e204fc25aeff91
DTSTAMP:20260424T063554Z
SUMMARY:BI Speaker Program
DESCRIPTION:Jewish Federation of Central Massachusetts\nCalendar\nhttps://j
 ewishcentralmass.org/calendar/bi-speaker-program\n\nBI Speaker Program\n\n
 9:00 am
DTSTART;TZID=America/New_York:20230122T090000
DTEND;TZID=America/New_York:20230122T110000
END:VEVENT
END:VCALENDAR
