BEGIN:VCALENDAR
PRODID:-//eluceo/ical//2.0/EN
VERSION:2.0
CALSCALE:GREGORIAN
BEGIN:VEVENT
UID:725d0ca84b2254db7351c5b737f9bf2a
DTSTAMP:20260423T052504Z
SUMMARY:BI Social Event
DESCRIPTION:Jewish Federation of Central Massachusetts\nCalendar\nhttps://j
 ewishcentralmass.org/calendar/bi-social-event\n\nBI Social Event\n\n9:00 a
 m - 12:00 pm
DTSTART;TZID=America/New_York:20211003T090000
DTEND;TZID=America/New_York:20211003T120000
END:VEVENT
END:VCALENDAR
