BEGIN:VCALENDAR
PRODID:-//eluceo/ical//2.0/EN
VERSION:2.0
CALSCALE:GREGORIAN
BEGIN:VEVENT
UID:3a4740d16f1e89b17566b09e3eb96ba6
DTSTAMP:20260421T222132Z
SUMMARY:BI - Social 1
DESCRIPTION:Jewish Federation of Central Massachusetts\nCalendar\nhttps://j
 ewishcentralmass.org/calendar/bi-social-1\n\nBI Social 9:00 - 12:00pm
DTSTART;TZID=America/New_York:20211107T090000
DTEND;TZID=America/New_York:20211107T120000
END:VEVENT
END:VCALENDAR
