BEGIN:VCALENDAR
PRODID:-//eluceo/ical//2.0/EN
VERSION:2.0
CALSCALE:GREGORIAN
BEGIN:VEVENT
UID:f0a2bf935c57fa891d3890eaa896f38e
DTSTAMP:20260422T013658Z
SUMMARY:BI - Social
DESCRIPTION:Jewish Federation of Central Massachusetts\nCalendar\nhttps://j
 ewishcentralmass.org/calendar/bi-social\n\nBI Social - 9-12pm
DTSTART;TZID=America/New_York:20211017T090000
DTEND;TZID=America/New_York:20211017T120000
END:VEVENT
END:VCALENDAR
