BEGIN:VCALENDAR
PRODID:-//eluceo/ical//2.0/EN
VERSION:2.0
CALSCALE:GREGORIAN
BEGIN:VEVENT
UID:67ade48795b330e6d89fad0708acbd58
DTSTAMP:20260423T033237Z
SUMMARY:BI Smores Fest
DESCRIPTION:Jewish Federation of Central Massachusetts\nCalendar\nhttps://j
 ewishcentralmass.org/calendar/bi-smores-fest\n\nBI S'mores Fest\n\n6:00 pm
DTSTART;TZID=America/New_York:20250515T180000
DTEND;TZID=America/New_York:20250515T200000
END:VEVENT
END:VCALENDAR
