BEGIN:VCALENDAR
PRODID:-//eluceo/ical//2.0/EN
VERSION:2.0
CALSCALE:GREGORIAN
BEGIN:VEVENT
UID:10643f3817806fed9267de4d22b6fa26
DTSTAMP:20260422T172638Z
SUMMARY:BI Shavuot
DESCRIPTION:Jewish Federation of Central Massachusetts\nCalendar\nhttps://j
 ewishcentralmass.org/calendar/bi-shavuot\n\nBI Shavuot
DTSTART;TZID=America/New_York:20250529T193000
DTEND;TZID=America/New_York:20250529T213000
END:VEVENT
END:VCALENDAR
