BEGIN:VCALENDAR
PRODID:-//eluceo/ical//2.0/EN
VERSION:2.0
CALSCALE:GREGORIAN
BEGIN:VEVENT
UID:a7c2792c8bb87e7657f301a041be796f
DTSTAMP:20260425T040301Z
SUMMARY:BI Shabbat - Burning of Chametz
DESCRIPTION:Jewish Federation of Central Massachusetts\nCalendar\nhttps://j
 ewishcentralmass.org/calendar/bi-shabbat-burning-of-chametz\n\nBI Shabbat 
 - Burning of Chametz\n\n6:00 pm
DTSTART;TZID=America/New_York:20250411T180000
DTEND;TZID=America/New_York:20250411T200000
END:VEVENT
END:VCALENDAR
