BEGIN:VCALENDAR
PRODID:-//eluceo/ical//2.0/EN
VERSION:2.0
CALSCALE:GREGORIAN
BEGIN:VEVENT
UID:9d059a60f9940f6de360c0a209022df0
DTSTAMP:20260422T043023Z
SUMMARY:BI Security Training
DESCRIPTION:Jewish Federation of Central Massachusetts\nCalendar\nhttps://j
 ewishcentralmass.org/calendar/bi-security-training\n\n5/24 at 6 pm  BI Se
 curity Training
DTSTART;TZID=America/New_York:20220524T180000
DTEND;TZID=America/New_York:20220524T200000
END:VEVENT
END:VCALENDAR
