BEGIN:VCALENDAR
PRODID:-//eluceo/ical//2.0/EN
VERSION:2.0
CALSCALE:GREGORIAN
BEGIN:VEVENT
UID:6c9380b3041848ae90987a0c33cc34ff
DTSTAMP:20260425T160204Z
SUMMARY:BI Scholar in Residence Weekend January 2023
DESCRIPTION:Jewish Federation of Central Massachusetts\nCalendar\nhttps://j
 ewishcentralmass.org/calendar/bi-scholar-in-residence-weekend-january-2023
 \n\nBI Scholar in Residence\n\n2/24 & 2/25\n\n*Rescheduled from 1/6 & 1/7
DTSTART;TZID=America/New_York:20230224T173000
DTEND;TZID=America/New_York:20230225T140000
END:VEVENT
END:VCALENDAR
